BEGIN:VCALENDAR
VERSION:2.0
PRODID:Imitheme.com 
BEGIN:VEVENT
UID:20260420T092949221262898
DTSTAMP;TZID=UTC:2026-04-20 09:29:49
DTSTART;TZID=America/Los_Angeles:20260420T092949
DTEND;TZID=America/Los_Angeles:20260420T092949
SUMMARY:Ramadan Kareem at QCIC Masjid
LOCATION:
DESCRIPTION:Quad City Islamic Center of North Austin Ramadan Kareem First Taraweeh: March 22nd | First Fasting: March 23rd Join us for IFTAR Every Friday & Saturday Parking onSite
URL:https://qcicmasjid.org/eventer/ramadan-kareem-at-qcic-masjid/
END:VEVENT
END:VCALENDAR
